BEGIN:VCALENDAR
VERSION:2.0
PRODID:spatie/icalendar-generator
NAME:
X-WR-CALNAME:
BEGIN:VTIMEZONE
TZID:Europe/Budapest
BEGIN:STANDARD
DTSTART:20251026T030000
TZOFFSETFROM:+0200
TZOFFSETTO:+0100
END:STANDARD
BEGIN:DAYLIGHT
DTSTART:20260329T010000
TZOFFSETFROM:+0100
TZOFFSETTO:+0200
END:DAYLIGHT
BEGIN:STANDARD
DTSTART:20261025T030000
TZOFFSETFROM:+0200
TZOFFSETTO:+0100
END:STANDARD
END:VTIMEZONE
BEGIN:VTIMEZONE
TZID:UTC
BEGIN:STANDARD
DTSTART:20250728T080546
TZOFFSETFROM:+0000
TZOFFSETTO:+0000
END:STANDARD
END:VTIMEZONE
BEGIN:VEVENT
UID:004fef7bcdaa62fbba659785f23b047b
DTSTAMP:20260424T080546Z
SUMMARY:HANDBALL VESZPRÉM vs Füchse Berlin
DESCRIPTION:One Veszprém
ORGANIZER;CN=One Veszprém:MAILTO:office@handballveszprem.hu
DTSTART;TZID=Europe/Budapest:20260430T184500
DTEND;TZID=Europe/Budapest:20260430T204500
END:VEVENT
END:VCALENDAR